BEGIN:VCALENDAR
VERSION:2.0
PRODID:-//Mercy Care for the Adirondacks - Lake Placid, NY - ECPv6.15.20//NONSGML v1.0//EN
CALSCALE:GREGORIAN
METHOD:PUBLISH
X-WR-CALNAME:Mercy Care for the Adirondacks - Lake Placid, NY
X-ORIGINAL-URL:https://www.adkmercy.org
X-WR-CALDESC:Events for Mercy Care for the Adirondacks - Lake Placid, NY
REFRESH-INTERVAL;VALUE=DURATION:PT1H
X-Robots-Tag:noindex
X-PUBLISHED-TTL:PT1H
BEGIN:VTIMEZONE
TZID:America/New_York
BEGIN:DAYLIGHT
TZOFFSETFROM:-0500
TZOFFSETTO:-0400
TZNAME:EDT
DTSTART:20240310T070000
END:DAYLIGHT
BEGIN:STANDARD
TZOFFSETFROM:-0400
TZOFFSETTO:-0500
TZNAME:EST
DTSTART:20241103T060000
END:STANDARD
BEGIN:DAYLIGHT
TZOFFSETFROM:-0500
TZOFFSETTO:-0400
TZNAME:EDT
DTSTART:20250309T070000
END:DAYLIGHT
BEGIN:STANDARD
TZOFFSETFROM:-0400
TZOFFSETTO:-0500
TZNAME:EST
DTSTART:20251102T060000
END:STANDARD
BEGIN:DAYLIGHT
TZOFFSETFROM:-0500
TZOFFSETTO:-0400
TZNAME:EDT
DTSTART:20260308T070000
END:DAYLIGHT
BEGIN:STANDARD
TZOFFSETFROM:-0400
TZOFFSETTO:-0500
TZNAME:EST
DTSTART:20261101T060000
END:STANDARD
END:VTIMEZONE
BEGIN:VEVENT
DTSTART;TZID=America/New_York:20250205T113000
DTEND;TZID=America/New_York:20250205T143000
DTSTAMP:20260424T161116
CREATED:20250108T194605Z
LAST-MODIFIED:20250108T195219Z
UID:6554-1738755000-1738765800@www.adkmercy.org
SUMMARY:Technology Assistance Workshop - Internet Safety
DESCRIPTION:Have questions about Technology?\nJoin us On February 5\, 2025 at BOCES AEC in Saranac Lake. With programming led by Mercy Care Technology & Project Manager\, Volunteers and Elders will learn Internet Safety using their cell phone\, iPad\, tablet or laptop.\nPlease let us know if you are in need of transportation to this event\, or if you are a Volunteer available to provide transportation. \n  \n\n  \n 
URL:https://www.adkmercy.org/event/technology-assistance-workshop-2-copy-copy/
LOCATION:AEC BOCES\, 711 State Rt 3\, Saranac Lake\, NY\, 12983\, United States
CATEGORIES:Community,Events
ATTACH;FMTTYPE=image/jpeg:https://www.adkmercy.org/wp-content/uploads/2024/08/Scott-instructing-group-scaled.jpg
END:VEVENT
END:VCALENDAR