BEGIN:VCALENDAR
VERSION:2.0
PRODID:-//Mercy Care for the Adirondacks - Lake Placid, NY - ECPv6.15.20//NONSGML v1.0//EN
CALSCALE:GREGORIAN
METHOD:PUBLISH
X-ORIGINAL-URL:https://www.adkmercy.org
X-WR-CALDESC:Events for Mercy Care for the Adirondacks - Lake Placid, NY
REFRESH-INTERVAL;VALUE=DURATION:PT1H
X-Robots-Tag:noindex
X-PUBLISHED-TTL:PT1H
BEGIN:VTIMEZONE
TZID:America/New_York
BEGIN:DAYLIGHT
TZOFFSETFROM:-0500
TZOFFSETTO:-0400
TZNAME:EDT
DTSTART:20240310T070000
END:DAYLIGHT
BEGIN:STANDARD
TZOFFSETFROM:-0400
TZOFFSETTO:-0500
TZNAME:EST
DTSTART:20241103T060000
END:STANDARD
BEGIN:DAYLIGHT
TZOFFSETFROM:-0500
TZOFFSETTO:-0400
TZNAME:EDT
DTSTART:20250309T070000
END:DAYLIGHT
BEGIN:STANDARD
TZOFFSETFROM:-0400
TZOFFSETTO:-0500
TZNAME:EST
DTSTART:20251102T060000
END:STANDARD
BEGIN:DAYLIGHT
TZOFFSETFROM:-0500
TZOFFSETTO:-0400
TZNAME:EDT
DTSTART:20260308T070000
END:DAYLIGHT
BEGIN:STANDARD
TZOFFSETFROM:-0400
TZOFFSETTO:-0500
TZNAME:EST
DTSTART:20261101T060000
END:STANDARD
END:VTIMEZONE
BEGIN:VEVENT
DTSTART;TZID=America/New_York:20250820T090000
DTEND;TZID=America/New_York:20250820T120000
DTSTAMP:20260424T053305
CREATED:20250710T171009Z
LAST-MODIFIED:20250710T173106Z
UID:7066-1755680400-1755691200@www.adkmercy.org
SUMMARY:Technology Assistance Workshop - Accessing\, Applying for\, and Managing Benefits Online
DESCRIPTION:Join us on August 20\, 2025 at High Peaks Church in Saranac Lake. Programming led by a Healthcare Representative and a Representative from the Office for the Aging. Mercy Care Volunteers and Elder Friends\, and members of the community\, will learn to navigate technology to gain access\, apply for\, and manage benefits online. Bring your iPad\, cell phone\, tablet and/or laptop.\nPlease let us know if you are in need of transportation to this event\, or if you are a Volunteer available to provide transportation. \n  \n\n  \n 
URL:https://www.adkmercy.org/event/technology-assistance-workshop-2-2/
LOCATION:High Peaks Church\, 97 Will Rogers Drive\, Saranac Lake\, NY\, 12983\, United States
CATEGORIES:Community,Events
ATTACH;FMTTYPE=image/jpeg:https://www.adkmercy.org/wp-content/uploads/2025/02/Attendees-arriving-scaled.jpg
END:VEVENT
END:VCALENDAR